Workbook

Sheet Månadsrapport 1
A1: BILAGA: Månadsrapportering 2026 ST-läkare med påbörjat ST-block FÖRE 2024, att bifoga till EBO eller faktura
A2: Obs! Månadsrapport för januari, februari, april och december 2026
A4: Faktauppgifter
A5: Månad | F5: Grå fält är obligatoriska att fylla i
A6: Vårdcentral
A7: Sidotjänstgöringsklinik
A8: ST-läkare
A9: Grundlön exkl tillägg, kr | B9: 0
A10: Tjänstgöringsgrad (ange ex 1,00 el 0,75) | B10: 0
A12: Redovisning | D12: Frånvaro - specificera varav ev. frånvaro (Ange 0 för dagar när ingen frånvaro har inträffat)
B13: Fyll i samtliga 20 dagar (summa av fält B15, B17, C15) lämna inte blankt | C13: Vid olika tjänstgöringsgrad ange antal arbetsdagar som ej arbetats | D13: Vård av barn, antal dagar | E13: Föräldraledig antal dagar | F13: Sjukfrånvaro 1-14 dgr, antal dagar (10 arbetsdagar) | G13: Sjukfrånvaro dag 15 och framåt, antal dagar (från 11:e arbetsdagen) | H13: Semester 1-32 dgr, antal dagar | I13: Tjänstledig med lön, antal dagar | J13: Tjänstledig utan lön, antal dagar
A14: Vårdcentral tjänstgöring:
A15: Antal arbetsdagar | B15: 0 | C15: 0 | D15: 0 | E15: 0 | F15: 0 | G15: 0 | H15: 0 | I15: 0 | J15: 0
A16: Sidotjänstgöring:
A17: Antal arbetsdagar | B17: 0 | D17: 0 | E17: 0 | F17: 0 | G17: 0 | H17: 0 | I17: 0 | J17: 0
B19: Belopp att fakturera | D19: =+'1a. Kalkyl - Fylls INTE i '!F26 -> 0 | E19: Hämtas med automatik
A21: Riktigheten i ovanstående uppgifter försäkras. Vid rapportering via mail har avsändande mailadress ansvar för att de rapporterade uppgifterna är riktiga. Verksamhetschefen ska alltid ha kopia.
A22: Vårdcentral
A23: Datum
A24: Verksamhetschef eller av denne utsedd ersättare

Sheet Månadsrapport 2
A1: BILAGA: Månadsrapportering 2026 ST-läkare med påbörjat ST-block EFTER 240101, att bifoga till EBO eller faktura
A2: Obs! Månadsrapport för januari, februari, april och december 2026
A4: Faktauppgifter
A5: Månad | F5: Grå fält är obligatoriska att fylla i
A6: Vårdcentral
A7: Sidotjänstgöringsklinik
A8: ST-läkare
A9: Grundlön exkl tillägg, kr | B9: 0
A10: Tjänstgöringsgrad (ange ex 1,00 el 0,75) | B10: 0
A12: Redovisning | D12: Frånvaro - specificera varav ev. frånvaro (Ange 0 för dagar när ingen frånvaro har inträffat)
B13: Fyll i samtliga 20 dagar (summa av fält B15, B17, C15) lämna inte blankt | C13: Vid olika tjänstgöringsgrad ange antal arbetsdagar som ej arbetats | D13: Vård av barn, antal dagar | E13: Föräldraledig antal dagar | F13: Sjukfrånvaro 1-14 dgr, antal dagar (10 arbetsdagar) | G13: Sjukfrånvaro dag 15 och framåt, antal dagar (från 11:e arbetsdagen) | H13: Semester 1-32 dgr, antal dagar | I13: Tjänstledig med lön, antal dagar | J13: Tjänstledig utan lön, antal dagar
A14: Vårdcentral tjänstgöring:
A15: Antal arbetsdagar | B15: 0 | C15: 0 | D15: 0 | E15: 0 | F15: 0 | G15: 0 | H15: 0 | I15: 0 | J15: 0
A16: Sidotjänstgöring:
A17: Antal arbetsdagar | B17: 0 | D17: 0 | E17: 0 | F17: 0 | G17: 0 | H17: 0 | I17: 0 | J17: 0
B19: Belopp att fakturera | D19: =+'2a. Kalkyl - Fylls INTE i '!F26 -> 0 | E19: Hämtas med automatik
A21: Riktigheten i ovanstående uppgifter försäkras. Vid rapportering via mail har avsändande mailadress ansvar för att de rapporterade uppgifterna är riktiga. Verksamhetschefen ska alltid ha kopia.
A22: Vårdcentral
A23: Datum
A24: Verksamhetschef eller av denne utsedd ersättare

Sheet Månadsrapport 3
A1: BILAGA: Månadsrapportering 2026 ST-läkare med påbörjat ST-block EFTER 260101, att bifoga till EBO eller faktura
A2: Obs! Månadsrapport för januari, februari, april och december 2026
A4: Faktauppgifter
A5: Månad | F5: Grå fält är obligatoriska att fylla i
A6: Vårdcentral
A7: Sidotjänstgöringsklinik
A8: ST-läkare
A9: Grundlön exkl tillägg, kr | B9: 0
A10: Tjänstgöringsgrad (ange ex 1,00 el 0,75) | B10: 0
A12: Redovisning | D12: Frånvaro - specificera varav ev. frånvaro (Ange 0 för dagar när ingen frånvaro har inträffat)
B13: Fyll i samtliga 20 dagar (summa av fält B15, B17, C15) lämna inte blankt | C13: Vid olika tjänstgöringsgrad ange antal arbetsdagar som ej arbetats | D13: Vård av barn, antal dagar | E13: Föräldraledig antal dagar | F13: Sjukfrånvaro 1-14 dgr, antal dagar (10 arbetsdagar) | G13: Sjukfrånvaro dag 15 och framåt, antal dagar (från 11:e arbetsdagen) | H13: Semester 1-32 dgr, antal dagar | I13: Tjänstledig med lön, antal dagar | J13: Tjänstledig utan lön, antal dagar
A14: Vårdcentral tjänstgöring:
A15: Antal arbetsdagar | B15: 0 | C15: 0 | D15: 0 | E15: 0 | F15: 0 | G15: 0 | H15: 0 | I15: 0 | J15: 0
A16: Sidotjänstgöring:
A17: Antal arbetsdagar | B17: 0 | D17: 0 | E17: 0 | F17: 0 | G17: 0 | H17: 0 | I17: 0 | J17: 0
B19: Belopp att fakturera | D19: =+'3a. Kalkyl - Fylls INTE i '!F26 -> 0 | E19: Hämtas med automatik
A21: Riktigheten i ovanstående uppgifter försäkras. Vid rapportering via mail har avsändande mailadress ansvar för att de rapporterade uppgifterna är riktiga. Verksamhetschefen ska alltid ha kopia.
A22: Vårdcentral
A23: Datum
A24: Verksamhetschef eller av denne utsedd ersättare

Sheet 1a. Kalkyl - Fylls INTE i 
A1: Kalkyl till månadsrapporteringen - ska INTE fyllas i. Uppgifterna hämtas från flik Månadsrapport 1 med automatik.
A3: Tjänstgöringsmånad | B3: =+'Månadsrapport 1'!B5:C5 -> 0
A4: ST-läkares namn | B4: =+'Månadsrapport 1'!B8:C8 -> 0
A5: Vårdcentral | B5: =+'Månadsrapport 1'!B6:C6 -> 0
C7: Vid tjänstgöring vid vc | E7: Vid sidotjänstgöring; utbildningsbidraget baseras på hela lönen för aktuell ST-läkare
A8: Utbildningsbidrag, inkluderar arbetsgivaravgift och semesterdagstillägg, kr | D8: 61000 | F8: Se nedan
A9: Avdrag per dag vid heltid 61 000 kr/20 | D9: =-D8/20 -> -3050 | F9: Se nedan
A10: Händelser | B10: Mått | C10: Antal hämtas via formel fr mån rapp | D10: Beräkning | E10: Antal hämtas via formel fr mån rapp | F10: Beräkning
A11: Utbildningsbidrag | D11: =+D8 -> 61000 | F11: =+B32 -> 0
A12: Deltidstjänstgöring | B12: I tjänstledighetsgrad *) | C12: =1-'Månadsrapport 1'!B10 -> 1 | D12: =-D11*C12 -> -61000 | E12: =1-'Månadsrapport 1'!B10 -> 1 | F12: =-F11*E12 -> 0
A13: Sidotjänstgöring | B13: I dagar | C13: =+'Månadsrapport 1'!B17 -> 0 | D13: =+C13*($D$9*(1-$C$12)) -> 0
A14: Vid vårdcentral | B14: I dagar | E14: =+'Månadsrapport 1'!B15 -> 0 | F14: =+E14*($B$33*(1-$E$12)) -> 0
A15: Om anställning in i månaden | B15: I dagar avdrag för ej arbetade | C15: =+'Månadsrapport 1'!C15 -> 0 | D15: =+D9*C15*(1-C12) -> 0 | E15: =+'Månadsrapport 1'!C15 -> 0 | F15: =+B33*E15*(1-E12) -> 0
A16: Frånvaro
A17: Vård av barn | B17: I dagar och avdrag från dag 1 | C17: =+'Månadsrapport 1'!D15 -> 0 | D17: =+C17*($D$9*(1-$C$12)) -> 0 | E17: =+'Månadsrapport 1'!D17 -> 0 | F17: =+E17*($B$33*(1-$E$12)) -> 0
A18: Föräldraledighet | B18: I dagar och avdrag från dag 1 | C18: =+'Månadsrapport 1'!E15 -> 0 | D18: =+C18*($D$9*(1-$C$12)) -> 0 | E18: =+'Månadsrapport 1'!E17 -> 0 | F18: =+E18*($B$33*(1-$E$12)) -> 0
A19: Sjukdom 1-14 dagar | B19: Dag 1-14 inget avdrag | C19: =+'Månadsrapport 1'!F15 -> 0 | E19: =+'Månadsrapport 1'!F17 -> 0
A20: Sjukdom dag 15 - | B20: Dag 15-framåt avdrag i dagar | C20: =+'Månadsrapport 1'!G15 -> 0 | D20: =+C20*($D$9*(1-$C$12)) -> 0 | E20: =+'Månadsrapport 1'!G17 -> 0 | F20: =+E20*($B$33*(1-$E$12)) -> 0
A21: Semester | B21: I dagar och inget avdrag för dag 1-32 | C21: =+'Månadsrapport 1'!H15 -> 0 | E21: =+'Månadsrapport 1'!H17 -> 0
A22: Tjänstledighet med lön | B22: Inget avdrag | C22: =+'Månadsrapport 1'!I15 -> 0 | E22: =+'Månadsrapport 1'!I17 -> 0
A23: Tjänstledighet utan lön | B23: I dagar och avdrag från dag 1 | C23: =+'Månadsrapport 1'!J15 -> 0 | D23: =+C23*($D$9*(1-$C$12)) -> 0 | E23: =+'Månadsrapport 1'!J17 -> 0 | F23: =+E23*($B$33*(1-$E$12)) -> 0
B24: Antal frånvarande dagar | C24: =+C17+C18+C19+C20+C21+C22+C23 -> 0 | E24: =+E17+E18+E19+E20+E21+E22+E23 -> 0
B25: Summering | D25: =SUM(D11:D23) -> 0 | F25: =SUM(F11:F23) -> 0
D26: Summa ersättning | F26: =+F25+D25 -> 0
A27: Vid sidotjänstgöring uträkning av lönekostnaden, per definition "hela lönen"
B28: ST-läkare
A29: Grundlön exkl tillägg | B29: =+'Månadsrapport 1'!B9 -> 0 | C29: Hämtas med automatik från månadsrapporteringen
A30: Semesterdagstillägg | B30: =+(B29*(0.00605*31)/12) -> 0 | C30: Grundlön*0,00605*semesterdagar/12 (semdgr = 31)
A31: Arbetsgivaravgift 44,14% | B31: =+((B29+B30)*0.4414) -> 0
A32: Summa lönekostnad | B32: =SUM(B29:B31) -> 0
A33: Avdrag per dag (div med 20) | B33: =-B32/20 -> 0

Sheet 2a. Kalkyl - Fylls INTE i 
A1: Kalkyl till månadsrapporteringen - ska INTE fyllas i. Uppgifterna hämtas från flik Månadsrapport 2 med automatik.
A3: Tjänstgöringsmånad | B3: {=+'Månadsrapport 2'!B5:C5} -> 0 | C3: 0
A4: ST-läkares namn | B4: {=+'Månadsrapport 2'!B8:C8} -> 0 | C4: 0
A5: Vårdcentral | B5: {=+'Månadsrapport 2'!B6:C6} -> 0 | C5: 0
C7: Vid tjänstgöring vid vc | E7: Vid sidotjänstgöring; utbildningsbidraget baseras på 89 450 kr (2026)
A8: Utbildningsbidrag, inkluderar arbetsgivaravgift och semesterdagstillägg, kr | D8: 61000 | F8: 89450
A9: Avdrag per dag vid heltid 61 000 kr resp 89 450 kr/20 | D9: =-D8/20 -> -3050 | F9: =-F8/20 -> -4472.5
A10: Händelser | B10: Mått | C10: Antal hämtas via formel fr mån rapp | D10: Beräkning | E10: Antal hämtas via formel fr mån rapp | F10: Beräkning
A11: Utbildningsbidrag | D11: =+D8 -> 61000 | F11: =+F8 -> 89450
A12: Deltidstjänstgöring | B12: I tjänstledighetsgrad *) | C12: =1-'Månadsrapport 2'!B10 -> 1 | D12: =-D11*C12 -> -61000 | E12: =1-'Månadsrapport 2'!B10 -> 1 | F12: =-F11*E12 -> -89450
A13: Sidotjänstgöring | B13: I dagar | C13: =+'Månadsrapport 2'!B17 -> 0 | D13: =+C13*($D$9*(1-$C$12)) -> 0
A14: Vid vårdcentral | B14: I dagar | E14: =+'Månadsrapport 2'!B15 -> 0 | F14: =+E14*($F$9*(1-$E$12)) -> 0
A15: Om anställning in i månaden | B15: I dagar avdrag för ej arbetade | C15: =+'Månadsrapport 2'!C15 -> 0 | D15: =+D9*C15*(1-C12) -> 0 | E15: =+'Månadsrapport 2'!C15 -> 0 | F15: =+F9*E15*(1-E12) -> 0
A16: Frånvaro
A17: Vård av barn | B17: I dagar och avdrag från dag 1 | C17: =+'Månadsrapport 2'!D15 -> 0 | D17: =+C17*($D$9*(1-$C$12)) -> 0 | E17: =+'Månadsrapport 2'!D17 -> 0 | F17: =+E17*($F$9*(1-$E$12)) -> 0
A18: Föräldraledighet | B18: I dagar och avdrag från dag 1 | C18: =+'Månadsrapport 2'!E15 -> 0 | D18: =+C18*($D$9*(1-$C$12)) -> 0 | E18: =+'Månadsrapport 2'!E17 -> 0 | F18: =+E18*($F$9*(1-$E$12)) -> 0
A19: Sjukdom 1-14 dagar | B19: Dag 1-14 inget avdrag | C19: =+'Månadsrapport 2'!F15 -> 0 | E19: =+'Månadsrapport 2'!F17 -> 0
A20: Sjukdom dag 15 - | B20: Dag 15-framåt avdrag i dagar | C20: =+'Månadsrapport 2'!G15 -> 0 | D20: =+C20*($D$9*(1-$C$12)) -> 0 | E20: =+'Månadsrapport 2'!G17 -> 0 | F20: =+E20*($F$9*(1-$E$12)) -> 0
A21: Semester | B21: I dagar och inget avdrag för dag 1-32 | C21: =+'Månadsrapport 2'!H15 -> 0 | E21: =+'Månadsrapport 2'!H17 -> 0
A22: Tjänstledighet med lön | B22: Inget avdrag | C22: =+'Månadsrapport 2'!I15 -> 0 | E22: =+'Månadsrapport 2'!I17 -> 0
A23: Tjänstledighet utan lön | B23: I dagar och avdrag från dag 1 | C23: =+'Månadsrapport 2'!J15 -> 0 | D23: =+C23*($D$9*(1-$C$12)) -> 0 | E23: =+'Månadsrapport 2'!J17 -> 0 | F23: =+E23*($F$9*(1-$E$12)) -> 0
B24: Antal frånvarande dagar | C24: =+C17+C18+C19+C20+C21+C22+C23 -> 0 | E24: =+E17+E18+E19+E20+E21+E22+E23 -> 0
B25: Summering | D25: =SUM(D11:D23) -> 0 | F25: =SUM(F11:F23) -> 0
D26: Summa ersättning | F26: =+F25+D25 -> 0

Sheet 3a. Kalkyl - Fylls INTE i 
A1: Kalkyl till månadsrapporteringen - ska INTE fyllas i. Uppgifterna hämtas från flik Månadsrapport 3 med automatik.
A3: Tjänstgöringsmånad | B3: {=+'Månadsrapport 3'!B5:C5} -> 0 | C3: 0
A4: ST-läkares namn | B4: {=+'Månadsrapport 3'!B8:C8} -> 0 | C4: 0
A5: Vårdcentral | B5: {=+'Månadsrapport 3'!B6:C6} -> 0 | C5: 0
C7: Vid tjänstgöring vid vc | E7: Vid sidotjänstgöring; utbildningsbidraget baseras på 89 450 kr (2026)
A8: Utbildningsbidrag, inkluderar arbetsgivaravgift och semesterdagstillägg, kr | D8: 61000 | F8: 89450
A9: Avdrag per dag vid heltid 61 000 kr resp 89 450 kr/20 | D9: =-D8/20 -> -3050 | F9: =-F8/20 -> -4472.5
A10: Händelser | B10: Mått | C10: Antal hämtas via formel fr mån rapp | D10: Beräkning | E10: Antal hämtas via formel fr mån rapp | F10: Beräkning
A11: Utbildningsbidrag | D11: =+D8 -> 61000 | F11: =+F8 -> 89450
A12: Deltidstjänstgöring | B12: I tjänstledighetsgrad *) | C12: =1-'Månadsrapport 3'!B10 -> 1 | D12: =-D11*C12 -> -61000 | E12: =1-'Månadsrapport 3'!B10 -> 1 | F12: =-F11*E12 -> -89450
A13: Sidotjänstgöring | B13: I dagar | C13: =+'Månadsrapport 3'!B17 -> 0 | D13: =+C13*($D$9*(1-$C$12)) -> 0
A14: Vid vårdcentral | B14: I dagar | E14: =+'Månadsrapport 3'!B15 -> 0 | F14: =+E14*($F$9*(1-$E$12)) -> 0
A15: Om anställning in i månaden | B15: I dagar avdrag för ej arbetade | C15: =+'Månadsrapport 3'!C15 -> 0 | D15: =+D9*C15*(1-C12) -> 0 | E15: =+'Månadsrapport 3'!C15 -> 0 | F15: =+F9*E15*(1-E12) -> 0
A16: Frånvaro
A17: Vård av barn | B17: I dagar och avdrag från dag 1 | C17: =+'Månadsrapport 3'!D15 -> 0 | D17: =+C17*($D$9*(1-$C$12)) -> 0 | E17: =+'Månadsrapport 3'!D17 -> 0 | F17: =+E17*($F$9*(1-$E$12)) -> 0
A18: Föräldraledighet | B18: I dagar och avdrag från dag 1 | C18: =+'Månadsrapport 3'!E15 -> 0 | D18: =+C18*($D$9*(1-$C$12)) -> 0 | E18: =+'Månadsrapport 3'!E17 -> 0 | F18: =+E18*($F$9*(1-$E$12)) -> 0
A19: Sjukdom 1-14 dagar | B19: Dag 1-14 inget avdrag | C19: =+'Månadsrapport 3'!F15 -> 0 | E19: =+'Månadsrapport 3'!F17 -> 0
A20: Sjukdom dag 15 - | B20: Dag 15-framåt avdrag i dagar | C20: =+'Månadsrapport 3'!G15 -> 0 | D20: =+C20*($D$9*(1-$C$12)) -> 0 | E20: =+'Månadsrapport 3'!G17 -> 0 | F20: =+E20*($F$9*(1-$E$12)) -> 0
A21: Semester | B21: I dagar och inget avdrag för dag 1-32 | C21: =+'Månadsrapport 3'!H15 -> 0 | E21: =+'Månadsrapport 3'!H17 -> 0
A22: Tjänstledighet med lön | B22: Inget avdrag | C22: =+'Månadsrapport 3'!I15 -> 0 | E22: =+'Månadsrapport 3'!I17 -> 0
A23: Tjänstledighet utan lön | B23: I dagar och avdrag från dag 1 | C23: =+'Månadsrapport 3'!J15 -> 0 | D23: =+C23*($D$9*(1-$C$12)) -> 0 | E23: =+'Månadsrapport 3'!J17 -> 0 | F23: =+E23*($F$9*(1-$E$12)) -> 0
B24: Antal frånvarande dagar | C24: =+C17+C18+C19+C20+C21+C22+C23 -> 0 | E24: =+E17+E18+E19+E20+E21+E22+E23 -> 0
B25: Summering | D25: =SUM(D11:D23) -> 0 | F25: =SUM(F11:F23) -> 0
D26: Summa ersättning | F26: =+F25+D25 -> 0
